BEGIN:VCALENDAR
VERSION:2.0
PRODID:-//St. Agnes Knights Of Columbus #4449 - ECPv6.15.20//NONSGML v1.0//EN
CALSCALE:GREGORIAN
METHOD:PUBLISH
X-ORIGINAL-URL:https://kofc4449.org
X-WR-CALDESC:Events for St. Agnes Knights Of Columbus #4449
REFRESH-INTERVAL;VALUE=DURATION:PT1H
X-Robots-Tag:noindex
X-PUBLISHED-TTL:PT1H
BEGIN:VTIMEZONE
TZID:America/New_York
BEGIN:DAYLIGHT
TZOFFSETFROM:-0500
TZOFFSETTO:-0400
TZNAME:EDT
DTSTART:20230312T070000
END:DAYLIGHT
BEGIN:STANDARD
TZOFFSETFROM:-0400
TZOFFSETTO:-0500
TZNAME:EST
DTSTART:20231105T060000
END:STANDARD
BEGIN:DAYLIGHT
TZOFFSETFROM:-0500
TZOFFSETTO:-0400
TZNAME:EDT
DTSTART:20240310T070000
END:DAYLIGHT
BEGIN:STANDARD
TZOFFSETFROM:-0400
TZOFFSETTO:-0500
TZNAME:EST
DTSTART:20241103T060000
END:STANDARD
BEGIN:DAYLIGHT
TZOFFSETFROM:-0500
TZOFFSETTO:-0400
TZNAME:EDT
DTSTART:20250309T070000
END:DAYLIGHT
BEGIN:STANDARD
TZOFFSETFROM:-0400
TZOFFSETTO:-0500
TZNAME:EST
DTSTART:20251102T060000
END:STANDARD
END:VTIMEZONE
BEGIN:VEVENT
DTSTART;TZID=America/New_York:20240605T080000
DTEND;TZID=America/New_York:20240608T170000
DTSTAMP:20260421T112125
CREATED:20240506T235433Z
LAST-MODIFIED:20240506T235433Z
UID:1801-1717574400-1717866000@kofc4449.org
SUMMARY:Eucharistic Procession through Maryland\, June 5-8
DESCRIPTION:Eurcharistic Procession will be passing thru Maryland during this period on the way to the National Eurcharistic Revival to be held July 17-21 in Indianapolis\, IN
URL:https://kofc4449.org/event/eucharistic-procession-through-maryland-june-5-8/
CATEGORIES:Activity,Faith
END:VEVENT
BEGIN:VEVENT
DTSTART;TZID=America/New_York:20240607T083000
DTEND;TZID=America/New_York:20240607T110000
DTSTAMP:20260421T112125
CREATED:20240507T000048Z
LAST-MODIFIED:20240507T000048Z
UID:1805-1717749000-1717758000@kofc4449.org
SUMMARY:Baltimore Basilica\, Mass and Eurcharistic Procession\, June 7th\, 8:30am
DESCRIPTION:Mass and Eurcharistic Procession at the Baltimore Basilica of the Assumption at 409 Cathedral Street in Baltimore.  Mass begins at 8:30am followed by a Eurcharistic Procession thru the streets ending at St. Mary’s Historic Site located at 600 North Paca St.
URL:https://kofc4449.org/event/baltimore-basilica-mass-and-eurcharistic-procession-june-7th-830am/
CATEGORIES:Activity,Faith
END:VEVENT
END:VCALENDAR