BEGIN:VCALENDAR
VERSION:2.0
PRODID:-//St. Agnes Knights Of Columbus #4449 - ECPv6.15.20//NONSGML v1.0//EN
CALSCALE:GREGORIAN
METHOD:PUBLISH
X-WR-CALNAME:St. Agnes Knights Of Columbus #4449
X-ORIGINAL-URL:https://kofc4449.org
X-WR-CALDESC:Events for St. Agnes Knights Of Columbus #4449
REFRESH-INTERVAL;VALUE=DURATION:PT1H
X-Robots-Tag:noindex
X-PUBLISHED-TTL:PT1H
BEGIN:VTIMEZONE
TZID:America/New_York
BEGIN:DAYLIGHT
TZOFFSETFROM:-0500
TZOFFSETTO:-0400
TZNAME:EDT
DTSTART:20230312T070000
END:DAYLIGHT
BEGIN:STANDARD
TZOFFSETFROM:-0400
TZOFFSETTO:-0500
TZNAME:EST
DTSTART:20231105T060000
END:STANDARD
BEGIN:DAYLIGHT
TZOFFSETFROM:-0500
TZOFFSETTO:-0400
TZNAME:EDT
DTSTART:20240310T070000
END:DAYLIGHT
BEGIN:STANDARD
TZOFFSETFROM:-0400
TZOFFSETTO:-0500
TZNAME:EST
DTSTART:20241103T060000
END:STANDARD
BEGIN:DAYLIGHT
TZOFFSETFROM:-0500
TZOFFSETTO:-0400
TZNAME:EDT
DTSTART:20250309T070000
END:DAYLIGHT
BEGIN:STANDARD
TZOFFSETFROM:-0400
TZOFFSETTO:-0500
TZNAME:EST
DTSTART:20251102T060000
END:STANDARD
END:VTIMEZONE
BEGIN:VEVENT
DTSTART;TZID=America/New_York:20240609T130000
DTEND;TZID=America/New_York:20240609T170000
DTSTAMP:20260421T111930
CREATED:20240506T235059Z
LAST-MODIFIED:20240506T235059Z
UID:1797-1717938000-1717952400@kofc4449.org
SUMMARY:St. Paul/Resurrection Pastorate Picnic\, June 9th\, 1-5pm
DESCRIPTION:Knights will be helping with the cooking for the church picnic at Mary Land Farm on June 9th
URL:https://kofc4449.org/event/st-paul-resurrection-pastorate-picnic-june-9th-1-5pm/
CATEGORIES:Activity,Community,Faith,Social events
END:VEVENT
END:VCALENDAR