BEGIN:VCALENDAR
VERSION:2.0
PRODID:-//St. Agnes Knights Of Columbus #4449 - ECPv6.15.20//NONSGML v1.0//EN
CALSCALE:GREGORIAN
METHOD:PUBLISH
X-WR-CALNAME:St. Agnes Knights Of Columbus #4449
X-ORIGINAL-URL:https://kofc4449.org
X-WR-CALDESC:Events for St. Agnes Knights Of Columbus #4449
REFRESH-INTERVAL;VALUE=DURATION:PT1H
X-Robots-Tag:noindex
X-PUBLISHED-TTL:PT1H
BEGIN:VTIMEZONE
TZID:America/New_York
BEGIN:DAYLIGHT
TZOFFSETFROM:-0500
TZOFFSETTO:-0400
TZNAME:EDT
DTSTART:20230312T070000
END:DAYLIGHT
BEGIN:STANDARD
TZOFFSETFROM:-0400
TZOFFSETTO:-0500
TZNAME:EST
DTSTART:20231105T060000
END:STANDARD
BEGIN:DAYLIGHT
TZOFFSETFROM:-0500
TZOFFSETTO:-0400
TZNAME:EDT
DTSTART:20240310T070000
END:DAYLIGHT
BEGIN:STANDARD
TZOFFSETFROM:-0400
TZOFFSETTO:-0500
TZNAME:EST
DTSTART:20241103T060000
END:STANDARD
BEGIN:DAYLIGHT
TZOFFSETFROM:-0500
TZOFFSETTO:-0400
TZNAME:EDT
DTSTART:20250309T070000
END:DAYLIGHT
BEGIN:STANDARD
TZOFFSETFROM:-0400
TZOFFSETTO:-0500
TZNAME:EST
DTSTART:20251102T060000
END:STANDARD
END:VTIMEZONE
BEGIN:VEVENT
DTSTART;TZID=America/New_York:20240626T130000
DTEND;TZID=America/New_York:20240626T150000
DTSTAMP:20260421T111922
CREATED:20240507T000704Z
LAST-MODIFIED:20240507T000704Z
UID:1811-1719406800-1719414000@kofc4449.org
SUMMARY:Defend Life Luncheon\, June 26th\, 1-3pm
DESCRIPTION:Defend Life Luncheon will be held at Stafford Hall on June 26th
URL:https://kofc4449.org/event/defend-life-luncheon-june-26th-1-3pm/
CATEGORIES:Activity,Community,Faith
END:VEVENT
BEGIN:VEVENT
DTSTART;TZID=America/New_York:20240626T193000
DTEND;TZID=America/New_York:20240626T210000
DTSTAMP:20260421T111922
CREATED:20240507T002442Z
LAST-MODIFIED:20240507T002442Z
UID:1813-1719430200-1719435600@kofc4449.org
SUMMARY:Rosary During Adoration\, June 26th\, 7:30-8pm
DESCRIPTION:Rosary during Adoration at St. Pauls on June 26th.  Adoration starts at 7pm\, rosary starts at 7:30pm
URL:https://kofc4449.org/event/rosary-during-adoration-june-26th-730-8pm/
CATEGORIES:Activity,Faith
END:VEVENT
END:VCALENDAR