BEGIN:VCALENDAR
VERSION:2.0
PRODID:-//St. Agnes Knights Of Columbus #4449 - ECPv6.15.20//NONSGML v1.0//EN
CALSCALE:GREGORIAN
METHOD:PUBLISH
X-ORIGINAL-URL:https://kofc4449.org
X-WR-CALDESC:Events for St. Agnes Knights Of Columbus #4449
REFRESH-INTERVAL;VALUE=DURATION:PT1H
X-Robots-Tag:noindex
X-PUBLISHED-TTL:PT1H
BEGIN:VTIMEZONE
TZID:America/New_York
BEGIN:DAYLIGHT
TZOFFSETFROM:-0500
TZOFFSETTO:-0400
TZNAME:EDT
DTSTART:20230312T070000
END:DAYLIGHT
BEGIN:STANDARD
TZOFFSETFROM:-0400
TZOFFSETTO:-0500
TZNAME:EST
DTSTART:20231105T060000
END:STANDARD
BEGIN:DAYLIGHT
TZOFFSETFROM:-0500
TZOFFSETTO:-0400
TZNAME:EDT
DTSTART:20240310T070000
END:DAYLIGHT
BEGIN:STANDARD
TZOFFSETFROM:-0400
TZOFFSETTO:-0500
TZNAME:EST
DTSTART:20241103T060000
END:STANDARD
BEGIN:DAYLIGHT
TZOFFSETFROM:-0500
TZOFFSETTO:-0400
TZNAME:EDT
DTSTART:20250309T070000
END:DAYLIGHT
BEGIN:STANDARD
TZOFFSETFROM:-0400
TZOFFSETTO:-0500
TZNAME:EST
DTSTART:20251102T060000
END:STANDARD
END:VTIMEZONE
BEGIN:VEVENT
DTSTART;TZID=America/New_York:20240722T080000
DTEND;TZID=America/New_York:20240722T170000
DTSTAMP:20260421T130818
CREATED:20240722T234839Z
LAST-MODIFIED:20240722T234839Z
UID:1833-1721635200-1721667600@kofc4449.org
SUMMARY:Cooking for My Brothers Keeper\, July 27\,
DESCRIPTION:We are going to cook hamburgers and hotdogs at My Brother’s Keeper on Saturday July 27th.  Please contact Larry Michielli at lmichielli@yahoo.com.
URL:https://kofc4449.org/event/cooking-for-my-brothers-keeper-july-27/
LOCATION:The Stafford Hall\, 2021 Frederick Road\, Catonsville\, MD\, 21228
END:VEVENT
BEGIN:VEVENT
DTSTART;TZID=America/New_York:20240722T080000
DTEND;TZID=America/New_York:20240722T170000
DTSTAMP:20260421T130818
CREATED:20240722T235034Z
LAST-MODIFIED:20240722T235034Z
UID:1835-1721635200-1721667600@kofc4449.org
SUMMARY:Rosary during Adoration\, July 31\, 7:30
DESCRIPTION:We will be praying the rosary during adoration at St. Pauls’ parish on Wednesday July 31 at 7:30 pm.  For any questions\, contact Chris Wills at cdwills2000@gmail.com \n  \n  \n  \n  \n  \n  \n  \n  \n  \n  \n  \n  \n 
URL:https://kofc4449.org/event/rosary-during-adoration-july-31-730/
END:VEVENT
BEGIN:VEVENT
DTSTART;TZID=America/New_York:20240722T193000
DTEND;TZID=America/New_York:20240722T210000
DTSTAMP:20260421T130818
CREATED:20240722T234433Z
LAST-MODIFIED:20240722T234433Z
UID:1831-1721676600-1721682000@kofc4449.org
SUMMARY:Business Meeting\, July 22 7:30-9pm
DESCRIPTION:Monthly business meeting at Stafford Hall
URL:https://kofc4449.org/event/business-meeting-july-22-730-9pm/
LOCATION:The Stafford Hall\, 2021 Frederick Road\, Catonsville\, MD\, 21228
END:VEVENT
END:VCALENDAR