BEGIN:VCALENDAR
VERSION:2.0
PRODID:-//St. Agnes Knights Of Columbus #4449 - ECPv6.15.20//NONSGML v1.0//EN
CALSCALE:GREGORIAN
METHOD:PUBLISH
X-WR-CALNAME:St. Agnes Knights Of Columbus #4449
X-ORIGINAL-URL:https://kofc4449.org
X-WR-CALDESC:Events for St. Agnes Knights Of Columbus #4449
REFRESH-INTERVAL;VALUE=DURATION:PT1H
X-Robots-Tag:noindex
X-PUBLISHED-TTL:PT1H
BEGIN:VTIMEZONE
TZID:America/New_York
BEGIN:DAYLIGHT
TZOFFSETFROM:-0500
TZOFFSETTO:-0400
TZNAME:EDT
DTSTART:20240310T070000
END:DAYLIGHT
BEGIN:STANDARD
TZOFFSETFROM:-0400
TZOFFSETTO:-0500
TZNAME:EST
DTSTART:20241103T060000
END:STANDARD
BEGIN:DAYLIGHT
TZOFFSETFROM:-0500
TZOFFSETTO:-0400
TZNAME:EDT
DTSTART:20250309T070000
END:DAYLIGHT
BEGIN:STANDARD
TZOFFSETFROM:-0400
TZOFFSETTO:-0500
TZNAME:EST
DTSTART:20251102T060000
END:STANDARD
BEGIN:DAYLIGHT
TZOFFSETFROM:-0500
TZOFFSETTO:-0400
TZNAME:EDT
DTSTART:20260308T070000
END:DAYLIGHT
BEGIN:STANDARD
TZOFFSETFROM:-0400
TZOFFSETTO:-0500
TZNAME:EST
DTSTART:20261101T060000
END:STANDARD
END:VTIMEZONE
BEGIN:VEVENT
DTSTART;TZID=America/New_York:20250616T193000
DTEND;TZID=America/New_York:20250616T210000
DTSTAMP:20260422T063146
CREATED:20250804T235517Z
LAST-MODIFIED:20250804T235517Z
UID:2043-1750102200-1750107600@kofc4449.org
SUMMARY:Monday\, June 16th 7:30pm Social Meeting
DESCRIPTION:Monday\, June 16th 7:30pm Social Meeting – Mary’s Home Presentation
URL:https://kofc4449.org/event/monday-june-16th-730pm-social-meeting/
LOCATION:MD
CATEGORIES:Activity,Community,Social events
END:VEVENT
END:VCALENDAR