BEGIN:VCALENDAR
VERSION:2.0
PRODID:-//St. Agnes Knights Of Columbus #4449 - ECPv6.15.20//NONSGML v1.0//EN
CALSCALE:GREGORIAN
METHOD:PUBLISH
X-ORIGINAL-URL:https://kofc4449.org
X-WR-CALDESC:Events for St. Agnes Knights Of Columbus #4449
REFRESH-INTERVAL;VALUE=DURATION:PT1H
X-Robots-Tag:noindex
X-PUBLISHED-TTL:PT1H
BEGIN:VTIMEZONE
TZID:America/New_York
BEGIN:DAYLIGHT
TZOFFSETFROM:-0500
TZOFFSETTO:-0400
TZNAME:EDT
DTSTART:20230312T070000
END:DAYLIGHT
BEGIN:STANDARD
TZOFFSETFROM:-0400
TZOFFSETTO:-0500
TZNAME:EST
DTSTART:20231105T060000
END:STANDARD
BEGIN:DAYLIGHT
TZOFFSETFROM:-0500
TZOFFSETTO:-0400
TZNAME:EDT
DTSTART:20240310T070000
END:DAYLIGHT
BEGIN:STANDARD
TZOFFSETFROM:-0400
TZOFFSETTO:-0500
TZNAME:EST
DTSTART:20241103T060000
END:STANDARD
BEGIN:DAYLIGHT
TZOFFSETFROM:-0500
TZOFFSETTO:-0400
TZNAME:EDT
DTSTART:20250309T070000
END:DAYLIGHT
BEGIN:STANDARD
TZOFFSETFROM:-0400
TZOFFSETTO:-0500
TZNAME:EST
DTSTART:20251102T060000
END:STANDARD
END:VTIMEZONE
BEGIN:VEVENT
DTSTART;TZID=America/New_York:20240916T193000
DTEND;TZID=America/New_York:20240916T210000
DTSTAMP:20260421T193808
CREATED:20240922T113638Z
LAST-MODIFIED:20240922T113638Z
UID:1872-1726515000-1726520400@kofc4449.org
SUMMARY:Social Meeting\, Sept 16\, 7:30-9pm
DESCRIPTION:“Is the US Constitution really godless? Or\, did the Founding Fathers have faith? If so\, did their faith influence our Founding Documents in any meaningful way? In honor of Constitution Day (September 17th) St. Agnes Council will host a social meeting with special guest speaker\, 2008 Constitution Party Presidential Candidate\, Anne Arundel County Councilmen\, 2022 Maryland Attorney General Candidate and founder of The Institution on the Constitution Michael Anthony Peroutka\, Esq.”
URL:https://kofc4449.org/event/social-meeting-sept-16-730-9pm/
LOCATION:The Stafford Hall\, 2021 Frederick Road\, Catonsville\, MD\, 21228
CATEGORIES:Community,Meetings,Social events
END:VEVENT
END:VCALENDAR