BEGIN:VCALENDAR
VERSION:2.0
PRODID:-//St. Agnes Knights Of Columbus #4449 - ECPv6.15.20//NONSGML v1.0//EN
CALSCALE:GREGORIAN
METHOD:PUBLISH
X-WR-CALNAME:St. Agnes Knights Of Columbus #4449
X-ORIGINAL-URL:https://kofc4449.org
X-WR-CALDESC:Events for St. Agnes Knights Of Columbus #4449
REFRESH-INTERVAL;VALUE=DURATION:PT1H
X-Robots-Tag:noindex
X-PUBLISHED-TTL:PT1H
BEGIN:VTIMEZONE
TZID:America/New_York
BEGIN:DAYLIGHT
TZOFFSETFROM:-0500
TZOFFSETTO:-0400
TZNAME:EDT
DTSTART:20230312T070000
END:DAYLIGHT
BEGIN:STANDARD
TZOFFSETFROM:-0400
TZOFFSETTO:-0500
TZNAME:EST
DTSTART:20231105T060000
END:STANDARD
BEGIN:DAYLIGHT
TZOFFSETFROM:-0500
TZOFFSETTO:-0400
TZNAME:EDT
DTSTART:20240310T070000
END:DAYLIGHT
BEGIN:STANDARD
TZOFFSETFROM:-0400
TZOFFSETTO:-0500
TZNAME:EST
DTSTART:20241103T060000
END:STANDARD
BEGIN:DAYLIGHT
TZOFFSETFROM:-0500
TZOFFSETTO:-0400
TZNAME:EDT
DTSTART:20250309T070000
END:DAYLIGHT
BEGIN:STANDARD
TZOFFSETFROM:-0400
TZOFFSETTO:-0500
TZNAME:EST
DTSTART:20251102T060000
END:STANDARD
END:VTIMEZONE
BEGIN:VEVENT
DTSTART;TZID=America/New_York:20240424T193000
DTEND;TZID=America/New_York:20240424T203000
DTSTAMP:20260421T120736
CREATED:20240506T091140Z
LAST-MODIFIED:20240506T091140Z
UID:1795-1713987000-1713990600@kofc4449.org
SUMMARY:Rosary during Adoration\, April 24th 7:30-8pm
DESCRIPTION:Rosary during Adoration\, St Paul’s Church.  Adoration starts at 7:00pm\, Rosary starts at 7:30pm
URL:https://kofc4449.org/event/rosary-during-adoration-april-24th-730-8pm/
CATEGORIES:Activity,Faith
END:VEVENT
BEGIN:VEVENT
DTSTART;TZID=America/New_York:20240422T193000
DTEND;TZID=America/New_York:20240422T210000
DTSTAMP:20260421T120736
CREATED:20240506T090959Z
LAST-MODIFIED:20240506T090959Z
UID:1793-1713814200-1713819600@kofc4449.org
SUMMARY:Business Meeting / Exemplification\, April 22nd\, 7:30-9pm
DESCRIPTION:Business Meeting / Exemplification at Stafford Hall
URL:https://kofc4449.org/event/business-meeting-exemplification-april-22nd-730-9pm/
CATEGORIES:Community,Meetings
END:VEVENT
END:VCALENDAR