BEGIN:VCALENDAR
VERSION:2.0
PRODID:-//St. Agnes Knights Of Columbus #4449 - ECPv6.15.20//NONSGML v1.0//EN
CALSCALE:GREGORIAN
METHOD:PUBLISH
X-ORIGINAL-URL:https://kofc4449.org
X-WR-CALDESC:Events for St. Agnes Knights Of Columbus #4449
REFRESH-INTERVAL;VALUE=DURATION:PT1H
X-Robots-Tag:noindex
X-PUBLISHED-TTL:PT1H
BEGIN:VTIMEZONE
TZID:America/New_York
BEGIN:DAYLIGHT
TZOFFSETFROM:-0500
TZOFFSETTO:-0400
TZNAME:EDT
DTSTART:20240310T070000
END:DAYLIGHT
BEGIN:STANDARD
TZOFFSETFROM:-0400
TZOFFSETTO:-0500
TZNAME:EST
DTSTART:20241103T060000
END:STANDARD
BEGIN:DAYLIGHT
TZOFFSETFROM:-0500
TZOFFSETTO:-0400
TZNAME:EDT
DTSTART:20250309T070000
END:DAYLIGHT
BEGIN:STANDARD
TZOFFSETFROM:-0400
TZOFFSETTO:-0500
TZNAME:EST
DTSTART:20251102T060000
END:STANDARD
BEGIN:DAYLIGHT
TZOFFSETFROM:-0500
TZOFFSETTO:-0400
TZNAME:EDT
DTSTART:20260308T070000
END:DAYLIGHT
BEGIN:STANDARD
TZOFFSETFROM:-0400
TZOFFSETTO:-0500
TZNAME:EST
DTSTART:20261101T060000
END:STANDARD
END:VTIMEZONE
BEGIN:VEVENT
DTSTART;TZID=America/New_York:20250907T171500
DTEND;TZID=America/New_York:20250907T190000
DTSTAMP:20260422T185545
CREATED:20250831T203346Z
LAST-MODIFIED:20250831T203346Z
UID:2089-1757265300-1757271600@kofc4449.org
SUMMARY:September 7th 5:15pm Mass at UMBC
DESCRIPTION:Sunday\, September 7th 5:15pm Mass at UMBC.  Archbishop Lori celebrating Mass with Father Matt Himes.  We will be providing hotdogs and hamburgers with the sides for the Catholic Retrievers.  If you plan on helping and attending please let Larry Michielli at lmichielli@yahoo.com
URL:https://kofc4449.org/event/september-7th-515pm-mass-at-umbc/
LOCATION:UMBC
END:VEVENT
BEGIN:VEVENT
DTSTART;TZID=America/New_York:20250915T193000
DTEND;TZID=America/New_York:20250915T210000
DTSTAMP:20260422T185545
CREATED:20250831T203501Z
LAST-MODIFIED:20250831T203501Z
UID:2092-1757964600-1757970000@kofc4449.org
SUMMARY:September 15th 7:30pm Social Meeting - Russia Revolution - 2 part series
DESCRIPTION:Monday\, September 15th 7:30pm Social Meeting – Russia Revolution – 2 part series at Stafford Hall
URL:https://kofc4449.org/event/september-15th-730pm-social-meeting-russia-revolution-2-part-series/
END:VEVENT
BEGIN:VEVENT
DTSTART;TZID=America/New_York:20250922T193000
DTEND;TZID=America/New_York:20250922T210000
DTSTAMP:20260422T185545
CREATED:20250831T203547Z
LAST-MODIFIED:20250831T203547Z
UID:2094-1758569400-1758574800@kofc4449.org
SUMMARY:September 22nd 7:30pm Business Meeting
DESCRIPTION:Monday\, September 22nd 7:30pm Business Meeting
URL:https://kofc4449.org/event/september-22nd-730pm-business-meeting/
END:VEVENT
END:VCALENDAR